BEGIN:VCALENDAR
METHOD:PUBLISH
PRODID:-//5207@www.region-coburg.tv//NONSGML iCalcreator 2.4.3//
VERSION:2.0
BEGIN:VEVENT
UID:5207-20230219120000-20230219000000@www.region-coburg.tv
DTSTAMP:20260420T044439Z
CONTACT:Eintritt frei!
CREATED:20230214T110600Z
DESCRIPTION:Zeltfasching Meeder - KinderfaschingVeranstalter: Landjugend Me
 ederKommt vorbei und feiert mit - Egal ob alt oder jung. Unsere Livemusik 
 begeistert alle Generationen.Freut euch auf einen Zauberer\, Bullriding un
 d ein Spielmobil.Der Eintritt ist frei! - Tickets: Eintritt frei!
DTEND:20230219T000000
DTSTART:20230219T120000
LAST-MODIFIED:20230214T110600Z
LOCATION:Meeder
SUMMARY:Kinderfasching
X-IMAGE:http://www.region-coburg.tv/images/medium/zeltfasching-b8addd11.jpg
END:VEVENT
END:VCALENDAR
