BEGIN:VCALENDAR
METHOD:PUBLISH
PRODID:-//5206@www.region-coburg.tv//NONSGML iCalcreator 2.4.3//
VERSION:2.0
BEGIN:VEVENT
UID:5206-20230217000000-20230220000000@www.region-coburg.tv
DTSTAMP:20260420T044327Z
CONTACT:Abendkasse 10\,00 €
CREATED:20230214T103500Z
DESCRIPTION:Zeltfasching MeederVeranstalter: Landjugend MeederDer Kult in O
 berfrankenDieses Jahr mit:DJ Bump & DJ Caruso (Freitag)\, Highline (Samsta
 g) und Geile Zeit (Montag).Tickets:Freitag und Samstag: VVK 9\,00 € / Ab
 endkasse 10\,00 €Montag: VVK 8\,00 € / Abendkasse 10\,00 €Der VVK ha
 t bereits begonnen. Ihr könnt euch an folgenden VVK Stellen Tickets siche
 rn:- Fleischerei Vietz (Bad Rodach)- Fleischerei Sommer (Oberlauter)- Edek
 a Wagner (Lauterer Höhe)- Neue Presse (Coburg)HINWEIS: Einlass ab 16 Jahr
 en mit Partyzettel und einem erwachsenen Erziehungsbeauftragten. Für Pers
 onen- und Sachschäden wird keine Haftung übernommen. KEIN Einlass unter 
 16 Jahren. - Tickets: Abendkasse 10\,00 €
DTEND;VALUE=DATE:20230221
DTSTART;VALUE=DATE:20230217
LAST-MODIFIED:20230214T103500Z
LOCATION:Meeder
SUMMARY:Zeltfasching Meeder
X-IMAGE:http://www.region-coburg.tv/images/medium/zeltfasching-b8addd11.jpg
END:VEVENT
END:VCALENDAR
