BEGIN:VCALENDAR
METHOD:PUBLISH
PRODID:-//5205@www.region-coburg.tv//NONSGML iCalcreator 2.4.3//
VERSION:2.0
BEGIN:VEVENT
UID:5205-20230219140000-20230219000000@www.region-coburg.tv
DTSTAMP:20260420T044152Z
CREATED:20230214T102100Z
DESCRIPTION:Gaudiwurm - Faschingsumzug der Coburger NarrhallaProgramm:Ab 1
 2:30 Uhr: Warm-Up Party auf dem Marktplatz mit Radio EINSAb 14:00 Uhr: F
 aschingsumzugStart ist die Bamberger Straße. Von dort schlängelt sich de
 r Faschingsumzug über die Schützenstraße\, die Ketschendorfer Straße\,
  die Ketschengasse bis zum Markt. Anschließend ziehen die Narren über di
 e Herrngasse und den Theaterplatz Richtung\, Steinweg\, Spitalgasse und wi
 eder zum Marktplatz.Ab 15:00 Uhr: große Faschingsparty auf dem Marktplat
 z mit Radio Eins
DTEND:20230219T000000
DTSTART:20230219T140000
LAST-MODIFIED:20230214T102100Z
LOCATION:Coburg\, Innenstadt
SUMMARY:Gaudiwurm
X-IMAGE:http://www.region-coburg.tv/images/medium/gaudiwurm-e5e4138f.jpg
END:VEVENT
END:VCALENDAR
