BEGIN:VCALENDAR
METHOD:PUBLISH
PRODID:-//5190@www.region-coburg.tv//NONSGML iCalcreator 2.4.3//
VERSION:2.0
BEGIN:VEVENT
UID:5190-20230208170000-20230208200000@www.region-coburg.tv
DTSTAMP:20260422T125149Z
CREATED:20230131T151600Z
DESCRIPTION:Abendöffnung mit Führung:'Fulvio Bianconi - Von Murano in die
  Welt'In den Wintermonaten mit früher Dunkelheit zeigen sich die Kunstwer
 ke im Glasmuseum in einem anderen Licht. Erleben Sie das Zusammenspiel von
  Glas und Kunstlicht und entdecken Sie die Objekte im Museum im magischen 
 Glanz.In einer Führung stellt Dr. Sven Hauschke ab 18.30 Uhr den italieni
 schen Künstler\, Grafiker und Gestalter Fulvio Bianconi (1915─1996) vor
 .
DTEND:20230208T200000
DTSTART:20230208T170000
LAST-MODIFIED:20230131T151600Z
LOCATION:Rödental\, Europäisches Museum für Modernes Glas
SUMMARY:Abendöffnung
X-IMAGE:http://www.region-coburg.tv/images/medium/abendoeffnung-98b6c68b.jp
 g
END:VEVENT
END:VCALENDAR
