BEGIN:VCALENDAR
METHOD:PUBLISH
PRODID:-//5177@www.region-coburg.tv//NONSGML iCalcreator 2.4.3//
VERSION:2.0
BEGIN:VEVENT
UID:5177-20230205100000-20230205180000@www.region-coburg.tv
DTSTAMP:20260422T124928Z
CREATED:20230130T170600Z
DESCRIPTION:Urzeitausstellung: 'Welt der Dinosaurier'Zeitreise durch die We
 lt der UrzeitgestaltenErleben Sie eine Zeitreise durch die Welt der Urzeit
 gestalten\, die unsere Welt vor sehr langer Zeit eroberten. Durch die anim
 atronischen und vollbeweglichen Dinosaurier-Figuren\, die auch realistisch
 e Geräusche von sich geben\, scheint die Ausstellung sehr real. Nicht nu
 r die Beschreibungen an jedem Dinosaurier\, sondern auch zahlreichen Infor
 mationsständer verteilt im Hause\, bieten den Besuchern viele Infos zum d
 azulernen.In einem der Räume befindet sich eine Dokumentationsecke\, in d
 er wissenswerte Filme ausgestrahlt werden. Am Spaßfaktor der Kleinen darf
  es natürlich auch nicht fehlen und somit bieten wir einen Ritt auf einem
  beweglichen Dinosaurier und eine Fahrt mit einem Dino-Car an. Es gibt Vie
 les zu Entdecken!Welt der Dinosaurier
DTEND:20230205T180000
DTSTART:20230205T100000
LAST-MODIFIED:20230130T170600Z
LOCATION:Neustadt b. Coburg\, Frankenhalle
SUMMARY:Welt der Dinosaurier
X-IMAGE:http://www.region-coburg.tv/images/medium/welt-der-dinosaurier-6a43
 5fd4.jpg
END:VEVENT
END:VCALENDAR
