BEGIN:VCALENDAR
METHOD:PUBLISH
PRODID:-//5158@www.region-coburg.tv//NONSGML iCalcreator 2.4.3//
VERSION:2.0
BEGIN:VEVENT
UID:5158-20221125000000-20221223000000@www.region-coburg.tv
DTSTAMP:20260420T044439Z
CREATED:20221205T104000Z
DESCRIPTION:Am Freitag\, den 25. November\, erstrahlt der Weihnachtsmarkt i
 n leuchtenden Farben und tannengrüngeschmückt. Besucher können sich bis
  zum 23. Dezember vom märchenhaften Flair verzaubern lassen. In den Verk
 aufshäuschen werden frisch hergestellte Produkte angeboten wie Glühwein\
 , Punsch\, Deftiges\, Süßes und Pikantes.Handwerker aus der Region zeige
 n in einer lebenden Werkstatt ihr Können\, lassen sich bei der Herstellun
 g ihrer Kunstwerke zusehen und bieten ihre Waren feil. Für die kleinen Be
 sucher gibt es ein nostalgisches Karussell. An den Sonntagen besuchen das 
 Christkind und der Weihnachtsmann den Markt und verteilen süße Überrasc
 hungen.Künstler\, Chöre und Kapellen sorgen in den Abendstunden für mus
 ikalische Unterhaltung. Die hübsch dekorierten Häuschen\, der Lichterhim
 mel rund um das Prinz-Albert-Denkmal und die wohlige Wärme der Kaminfeuer
 stelle laden Groß und Klein zum Bummeln und Verweilen ein.Täglich von 11
 :00 bis 20:00 Uhr geöffnet.
DTEND;VALUE=DATE:20221224
DTSTART;VALUE=DATE:20221125
LAST-MODIFIED:20221205T104000Z
LOCATION:Coburg\, Marktplatz
SUMMARY:Coburger Weihnachtsmarkt
X-IMAGE:http://www.region-coburg.tv/images/medium/weihnachtsmarkt-vh-49c808
 08.jpg
END:VEVENT
END:VCALENDAR
