BEGIN:VCALENDAR
METHOD:PUBLISH
PRODID:-//5090@www.region-coburg.tv//NONSGML iCalcreator 2.4.3//
VERSION:2.0
BEGIN:VEVENT
UID:5090-20220724140000-20220724170000@www.region-coburg.tv
DTSTAMP:20260420T044657Z
CONTACT:Eintritt frei!
CREATED:20220720T182000Z
DESCRIPTION:Fest der Arnoldiner und ihrer Gäste auf dem AG-CampusDas groß
 e Fest bietet wieder jede Menge interessante Einblicke in das Schulleben\,
  ein musikalisches Angebot für jeden Geschmack und eine kulinarische Meil
 e.Veranstalter: Arnold-Gymnasium - Tickets: Eintritt frei!
DTEND:20220724T170000
DTSTART:20220724T140000
LAST-MODIFIED:20220720T182000Z
LOCATION:Neustadt bei Coburg\, Arnold-Gymnasium
SUMMARY:Schulfest
X-IMAGE:http://www.region-coburg.tv/images/medium/ag-fest-vh-6c9bc4f9.jpg
END:VEVENT
END:VCALENDAR
