BEGIN:VCALENDAR
METHOD:PUBLISH
PRODID:-//5078@www.region-coburg.tv//NONSGML iCalcreator 2.4.3//
VERSION:2.0
BEGIN:VEVENT
UID:5078-20220902000000-20220904000000@www.region-coburg.tv
DTSTAMP:20260420T044648Z
CONTACT:Eintritt frei!
CREATED:20220708T123000Z
DESCRIPTION:Ganz ungezwungen wird vom Freitag\, 2. September bis Sonntag\, 
 4. September 2022 auf dem Coburger Marktplatz zusammengesessen\, getanzt\,
  geplaudert und gelacht - und natürlich auch viel geschlemmt. Beim gemüt
 lichen Coburger Klössmarkt trifft sich Alt und Jung und lässt den Sommer
  in der Vestestadt ausklingen. - Tickets: Eintritt frei!
DTEND;VALUE=DATE:20220905
DTSTART;VALUE=DATE:20220902
LAST-MODIFIED:20220708T123000Z
LOCATION:Coburg\, Marktplatz
SUMMARY:Coburger Klößmarkt
X-IMAGE:http://www.region-coburg.tv/images/medium/kloessmarkt-vh-57ecf1ba.j
 pg
END:VEVENT
END:VCALENDAR
