BEGIN:VCALENDAR
METHOD:PUBLISH
PRODID:-//5072@www.region-coburg.tv//NONSGML iCalcreator 2.4.3//
VERSION:2.0
BEGIN:VEVENT
UID:5072-20220729000000-20220807000000@www.region-coburg.tv
DTSTAMP:20260420T044657Z
CREATED:20220708T120800Z
DESCRIPTION:Das große SchützenfestDas Coburger Vogelschießen ist das äl
 teste und größte Coburger Volksfest. Es beginnt traditionell am Freitag
  des letzten Juli-Wochenendes und dauert 10 Tage.
DTEND;VALUE=DATE:20220808
DTSTART;VALUE=DATE:20220729
LAST-MODIFIED:20220708T120800Z
LOCATION:Coburg\, Ketschenanger
SUMMARY:Coburger Vogelschießen
X-IMAGE:http://www.region-coburg.tv/images/medium/vogelschiessen-vh-7d52b6a
 0.jpg
END:VEVENT
END:VCALENDAR
