BEGIN:VCALENDAR
METHOD:PUBLISH
PRODID:-//5070@www.region-coburg.tv//NONSGML iCalcreator 2.4.3//
VERSION:2.0
BEGIN:VEVENT
UID:5070-20220714000000-20220718000000@www.region-coburg.tv
DTSTAMP:20260420T030847Z
CONTACT:5-Tages-Ticket: 8 Euro
CREATED:20220708T115400Z
DESCRIPTION:Gourmet PartyDie große Gourmet-Party erwartet ihre Besucher m
 it vielfältiger Musik und großem gastronomischen Angebot. Zwischen Sch
 loss Ehrenburg\, Hofgarten und Landestheater lädt das stimmungsvolle Ambi
 ente zum Verweilen ein.Weitere Informationen - Tickets: 5-Tages-Ticket: 8 
 Euro
DTEND;VALUE=DATE:20220719
DTSTART;VALUE=DATE:20220714
LAST-MODIFIED:20220708T115400Z
LOCATION:Coburg\, Schlossplatz
SUMMARY:Schlossplatzfest
X-IMAGE:http://www.region-coburg.tv/images/medium/schlossplatz-vh-8db5ce72.
 jpg
END:VEVENT
END:VCALENDAR
