BEGIN:VCALENDAR
METHOD:PUBLISH
PRODID:-//5069@www.region-coburg.tv//NONSGML iCalcreator 2.4.3//
VERSION:2.0
BEGIN:VEVENT
UID:5069-20220708000000-20220710000000@www.region-coburg.tv
DTSTAMP:20260420T030841Z
CREATED:20220708T114800Z
DESCRIPTION:Internationales Samba-FestivaIIn Coburg findet jedes Jahr das g
 rößte Samba-Festival außerhalb Brasiliens statt\, das seit 1992 jährli
 ch tausende Besucher anzieht.Programminfo
DTEND;VALUE=DATE:20220711
DTSTART;VALUE=DATE:20220708
LAST-MODIFIED:20220708T114800Z
LOCATION:Coburg\, Innenstadt
SUMMARY:Samba-Festival
X-IMAGE:http://www.region-coburg.tv/images/medium/samba-vh-77f537ae.jpg
END:VEVENT
END:VCALENDAR
