BEGIN:VCALENDAR
METHOD:PUBLISH
PRODID:-//5068@www.region-coburg.tv//NONSGML iCalcreator 2.4.3//
VERSION:2.0
BEGIN:VEVENT
UID:5068-20220710000000-20220710000000@www.region-coburg.tv
DTSTAMP:20260420T030853Z
CREATED:20220706T181700Z
DESCRIPTION:43. Marktfest zum Abschluss des KinderfestwochenendesFür Musik
 liebhaber wird traditionell zur Frühschoppenzeit ab 11:00 Uhr die Stadtka
 pelle Neustadt spielen.v Im Anschluss sorgt das Jugendorchester Neustadt a
 b 13:00 Uhr für Wohlfühlatmosphäre auf dem Marktplatz.Mit einem Kinderp
 rogramm ab 14:00 Uhr in der Georg-Langbein-Straße ist Spielspaß und Unte
 rhaltung für die Jüngsten geboten.Der mehrfach ausgezeichneten Stimmungs
 - und Partyband MEMBERS gelingt es ab 15:00 Uhr mit einem bunten Mix aus O
 ldies\, Schlager- und Partyhits die richtige Mischung zu finden und somit 
 das Publikum bis in den späten Abend zu begeistern. 
DTEND;VALUE=DATE:20220711
DTSTART;VALUE=DATE:20220710
LAST-MODIFIED:20220706T181700Z
LOCATION:Neustadt bei Coburg\,Marktplatz
SUMMARY:Neustadter Marktfest
X-IMAGE:http://www.region-coburg.tv/images/medium/marktfest-vh-8841036f.jpg
END:VEVENT
END:VCALENDAR
