BEGIN:VCALENDAR
METHOD:PUBLISH
PRODID:-//5067@www.region-coburg.tv//NONSGML iCalcreator 2.4.3//
VERSION:2.0
BEGIN:VEVENT
UID:5067-20220709000000-20220709000000@www.region-coburg.tv
DTSTAMP:20260420T030841Z
CREATED:20220706T181600Z
DESCRIPTION:472. Neustadter KinderfestDem traditionellen musikalischen Weck
 ruf am Morgen ab 6:00 Uhr folgt um 13:00 Uhr der groÃŸe Festumzug mit SchÃ
 ¼lern der Neustadter Schulen\, Puppenfee\, Puppendoktor und vielen Musikka
 pellen durch die Innenstadt.Im Anschluss an den Umzug werden auf dem SchÃ¼
 tzenplatz die Staffeln\, FreiÃ¼bungen und TÃ¤nze vorgefÃ¼hrt. FÃ¼r Volksfe
 statmosphÃ¤re auf dem SchÃ¼tzenplatz sorgen Schaustellerfamilie MÃ¶lter mi
 t ihren FahrgeschÃ¤ften\, der Ausschank der Kulmbacher Brauerei sowie weit
 ere VerpflegungsstÃ¤nde und Blasmusik.
DTEND;VALUE=DATE:20220710
DTSTART;VALUE=DATE:20220709
LAST-MODIFIED:20220706T181600Z
LOCATION:Neustadt bei Coburg\,SchÃ¼tzenplatz
SUMMARY:Neustadter Kinderfest
X-IMAGE:http://www.region-coburg.tv/images/medium/kinderfest-nec-1ae3fcd7.J
 PG
END:VEVENT
END:VCALENDAR
