BEGIN:VCALENDAR
METHOD:PUBLISH
PRODID:-//4968@www.region-coburg.tv//NONSGML iCalcreator 2.4.3//
VERSION:2.0
BEGIN:VEVENT
UID:4968-20210912000000-20210919000000@www.region-coburg.tv
DTSTAMP:20260420T030730Z
CREATED:20210901T152700Z
DESCRIPTION:Neustadt & SonnebergDie Puppen- und Spielzeugindustrie hat in C
 oburg.Rennsteig eine lange Tradition und die beiden Städte Neustadt und S
 onneberg versuchen\, diese mit diesem einzigartigen Festival lebendig zu h
 alten. Seit über 25 Jahren pilgern Spielzeugfans an Himmelfahrt in die Ba
 yerische Puppenstadt Neustadt bei Coburg und die Spielzeugstadt Sonneberg 
 – und dies soll so bleiben.Auch zum „kleineren“ Internationalen Pupp
 enFestival 2021 gibt es die praktische Kombikarte mit Festivalbändchen. 
  Gegen eine Gebühr von 14\,00 € erhalten Sie unbegrenzten Zutritt zu al
 len auf der Karte angegebenen Museen\, Messen\, Ausstellungen und Firmen. 
 So können Sie günstig das ganze Programm des Internationalen PuppenFesti
 vals auskosten und gelangen mit dem kostenfreien Shuttlebus schnell von Or
 t zu Ort.Zum Programm
DTEND;VALUE=DATE:20210920
DTSTART;VALUE=DATE:20210912
LAST-MODIFIED:20210901T152700Z
LOCATION:Neustadt & Sonneberg
SUMMARY:Internationales Puppenfestival
X-IMAGE:http://www.region-coburg.tv/images/medium/puppen-vh-d06454c8.jpg
END:VEVENT
END:VCALENDAR
