BEGIN:VCALENDAR
METHOD:PUBLISH
PRODID:-//4967@www.region-coburg.tv//NONSGML iCalcreator 2.4.3//
VERSION:2.0
BEGIN:VEVENT
UID:4967-20210701000000-20211031000000@www.region-coburg.tv
DTSTAMP:20260419T175651Z
CONTACT:www.bobdylan2021.de
CREATED:20210828T103000Z
DESCRIPTION:Kunstausstellung auf Schloss HohensteinIn Deutschland finden 20
 21 vier Ausstellungen mit handsignierten Kunstwerken von Bob Dylan statt. 
 Eine dieser 4 Ausstellungen findet im Kunstforum Schloss Hohenstein bei Ah
 orn statt. Noch bis Ende Oktober kann man dort jeden Freitag bis Sonntag v
 on 10 - 18 Uhr Uhr die Ausstellung besuchen. Die Führungen finden im 2 St
 unden Takt statt. Immer um 10 Uhr\, 12 Uhr\, 14 Uhr und 16 Uhr.Eine Anmeld
 ung ist erfoderlich unter der Internetseite: www.bobdylan2021.de - Tickets
 : www.bobdylan2021.de
DTEND;VALUE=DATE:20211031
DTSTART;VALUE=DATE:20210701
LAST-MODIFIED:20210828T103000Z
LOCATION:Schloss Hohenstein
SUMMARY:Bob Dylan 'On the Road 2021'
X-IMAGE:http://www.region-coburg.tv/images/medium/dylan-vh-d3117560.jpg
END:VEVENT
END:VCALENDAR
