BEGIN:VCALENDAR
METHOD:PUBLISH
PRODID:-//4944@www.region-coburg.tv//NONSGML iCalcreator 2.4.3//
VERSION:2.0
BEGIN:VEVENT
UID:4944-20210327000000-20210905000000@www.region-coburg.tv
DTSTAMP:20260419T175801Z
CONTACT:09561 / 891480
CREATED:20210812T171400Z
DESCRIPTION:Im Jahr 1920 entschieden sich die Coburger Bürgerinnen und Bü
 rger gegen den Anschluss an Thüringen und für den Freistaat Bayern. '100
  Jahre Coburg bei Bayern' - das heißt für die Puppenindustrie im Coburge
 r Raum auch: 40 Jahre mit dem 'Eisernen Vorhang' und ohne die Möglichkeit
 \, die hier produzierten Spielwaren über die 'Weltspielzeugstadt Sonneber
 g' zu vertreiben.Die Ausstellung lädt dazu ein\, die Puppenindustrie auf 
 der bayerischen Seite der Spielzeugregion Thüringen - Franken genauer zu 
 erkunden. „Lilli“\, die Vorgängerin der Barbiepuppe\, stammt ebenso v
 on hier\, wie das „Kullertränchen“\, die „Baby Born“ oder Figuren
  wie Mainzelmännchen sowie Wumm und Wendelin. Sogar die berühmten Hummel
 -Figuren gab es als Puppen. - Tickets: 09561 / 891480
DTEND;VALUE=DATE:20210906
DTSTART;VALUE=DATE:20210327
LAST-MODIFIED:20210812T171400Z
LOCATION:Coburg\, Puppenmuseum
SUMMARY:100 Jahre Puppen aus Rödental
X-IMAGE:http://www.region-coburg.tv/images/medium/puppen-vh-ad45e249.jpg
END:VEVENT
END:VCALENDAR
