BEGIN:VCALENDAR
METHOD:PUBLISH
PRODID:-//4943@www.region-coburg.tv//NONSGML iCalcreator 2.4.3//
VERSION:2.0
BEGIN:VEVENT
UID:4943-20210304000000-20210822000000@www.region-coburg.tv
DTSTAMP:20260419T175624Z
CONTACT:09561 / 8790
CREATED:20210812T170900Z
DESCRIPTION:Schön wie ein SchadowDie Kunstsammlungen der Veste Coburg prä
 sentieren mit Friedrich Müller (1795–1834) einen höchst talentierten K
 ünstler der Romantik. Müller startete seine Laufbahn als herausragender 
 Kopist in Porzellanmalerei\, bevor er sich kurz vor seinem frühzeitigen T
 od zum eigenständigen Maler entwickelte. Seinen wenigen bekannten Arbeite
 n werden Werke seines großen Vorbilds Wilhelm Schadow gegenübergestellt.
  Im Blickpunkt stehen drei Versionen eines zwischenzeitlich Schadow zugesc
 hriebenen\, im Original aber von Müller stammenden Porträts der römisch
 en Schönheit Fortunata Segadori. Von Müllers intensiver Auseinandersetzu
 ng mit Schadow zeugt auch seine kongeniale Kopie des verschollen geglaubte
 n\, in Coburg nun erstmals wieder präsentierten Bildnisses eines Kamaldul
 enser-Mönchs. Zugleich wirft die Ausstellung ein Schlaglicht auf das Verh
 ältnis von Original und Kopie in der Kunst des 19. Jahrhunderts. - Ticket
 s: 09561 / 8790
DTEND;VALUE=DATE:20210823
DTSTART;VALUE=DATE:20210304
LAST-MODIFIED:20210812T170900Z
LOCATION:Kunstsammlungen der Veste Coburg
SUMMARY:Das Porträt der Fortunata
X-IMAGE:http://www.region-coburg.tv/images/medium/schadow-vh-c50b5bb9.jpg
END:VEVENT
END:VCALENDAR
