BEGIN:VCALENDAR
METHOD:PUBLISH
PRODID:-//4942@www.region-coburg.tv//NONSGML iCalcreator 2.4.3//
VERSION:2.0
BEGIN:VEVENT
UID:4942-20210423000000-20211107000000@www.region-coburg.tv
DTSTAMP:20260419T175011Z
CONTACT:09563 / 1606
CREATED:20210811T115100Z
DESCRIPTION:Zur Positionierung der Kunst aus GlasIn den Anfängen der Studi
 oglasbewegung fertigten Glaskünstlerinnen und Glaskünstler fast ausschli
 eßlich Objekte\, die geschützt in Vitrinen standen. In den 1980er Jahren
  eroberten Skulpturen aus Glas den erhöhenden Sockel. Seit gut zehn Jahre
 n entstehen nun immer mehr Kunstwerke\, die eine Wand zur Präsentation be
 nötigen. Das ist kein Zufall. Denn diese Entwicklung verläuft parallel z
 u der Etablierung des Materials Glas in der Kunst. Die Sonderausstellung w
 idmet sich dem Phänomen\, dass Kunstwerke für einen bestimmten Ort gesch
 affen werden. - Tickets: 09563 / 1606
DTEND;VALUE=DATE:20211108
DTSTART;VALUE=DATE:20210423
LAST-MODIFIED:20210811T115100Z
LOCATION:Rödental\, Europäisches Museum für Modernes Glas
SUMMARY:Vom Sockel zur Wand
X-IMAGE:http://www.region-coburg.tv/images/medium/glas-vh-78eb221a.jpg
END:VEVENT
END:VCALENDAR
