BEGIN:VCALENDAR
METHOD:PUBLISH
PRODID:-//4914@www.region-coburg.tv//NONSGML iCalcreator 2.4.3//
VERSION:2.0
BEGIN:VEVENT
UID:4914-20210629000000-20210726000000@www.region-coburg.tv
DTSTAMP:20260419T175115Z
CONTACT:09561 / 80810
CREATED:20210625T161800Z
DESCRIPTION:WanderausstellungDie Wanderausstellung Elektromobilität Bayern
  bietet aktuelle Informationen rundum die Elektromobilität in Bayern. Sie
 ben Module präsentieren anschaulich die wichtigsten Themenbereiche der El
 ektromobilität. Exponate laden zum Ausprobieren und Mitmachen ein. Damit 
 bietet die Ausstellung der breiten Öffentlichkeit\, insbesondere Jugendli
 chen\, einen technologieorientierten Zugang zur Mobilität von morgen. - T
 ickets: 09561 / 80810
DTEND;VALUE=DATE:20210727
DTSTART;VALUE=DATE:20210629
LAST-MODIFIED:20210625T161800Z
LOCATION:Coburg\, Naturkundemuseum
SUMMARY:Elektromobilität Bayern
X-IMAGE:http://www.region-coburg.tv/images/medium/emobil-vh-c9ee1c51.jpg
END:VEVENT
END:VCALENDAR
