BEGIN:VCALENDAR
METHOD:PUBLISH
PRODID:-//4853@www.region-coburg.tv//NONSGML iCalcreator 2.4.3//
VERSION:2.0
BEGIN:VEVENT
UID:4853-20200720000000-20201230000000@www.region-coburg.tv
DTSTAMP:20260419T175447Z
CONTACT:Zugang Ã¼ber Puppenmuseum
CREATED:20200725T161400Z
DESCRIPTION:Eine Ausstellung des Staatsarchivs CoburgSeit genau 100 Jahren 
 ist Coburg nun ein Teil des Freistaats Bayern. Turbulente Tage waren darun
 ter. Die Ausstellung mÃ¶chte zeigen\, welche Entwicklung das Coburger Land
  wÃ¤hrend der ZugehÃ¶rigkeit zu Bayern genommen hat. Die ersten Stationen 
 widmen sich der Weimarer Republik und der Zeit des Nationalsozialismus.Ein
  besonderer Schwerpunkt liegt jedoch auf der Darstellung der Zeit nach dem
  Zweiten Weltkrieg. Obwohl von der innerdeutschen Grenze an drei Seiten ei
 ngeklemmt\, nahm Coburg nach 1945 eine stetige Entwicklung. Landwirtschaft
  und Industrie modernisierten sich\, Tourismus und groÃŸe Bauprojekte verÃ
 ¤nderten das Stadtbild. Durch die kommunale Gebietsreform und die regelmÃ¤
 ÃŸigen Feierlichkeiten zum Anschluss an Bayern wuchs Coburg weiter nach Ba
 yern hinein.SchlieÃŸlich verÃ¤nderte die Wiedervereinigung von 1989/90 die
  politische Landkarte grundlegend Â und gab Coburg eine ganze Reihe neuer 
 Entwicklungschancen. - Tickets: Zugang Ã¼ber Puppenmuseum
DTEND;VALUE=DATE:20201231
DTSTART;VALUE=DATE:20200720
LAST-MODIFIED:20200725T161400Z
LOCATION:Coburg\, 'RÃ¼ckert 3'
SUMMARY:100 Jahre Coburg bei Bayern
X-IMAGE:http://www.region-coburg.tv/images/medium/coburg-bayern-100-vh-e0ae
 a6ec.jpg
END:VEVENT
END:VCALENDAR
