BEGIN:VCALENDAR
METHOD:PUBLISH
PRODID:-//4838@www.region-coburg.tv//NONSGML iCalcreator 2.4.3//
VERSION:2.0
BEGIN:VEVENT
UID:4838-20200508000000-20201108000000@www.region-coburg.tv
DTSTAMP:20260419T174136Z
CONTACT:09563 / 1606
CREATED:20200616T105200Z
DESCRIPTION:Sonderausstellung des Glas Engraving NetworkDas Europäische Mu
 seum für Modernes Glas stellt in einer Sonderausstellung aktuelle Arbeite
 n von über 40 in Europa tätigen Glasgraveurinnen und Glasgraveuren vor\,
  die sich im Glas Engraving Network zusammengeschlossen haben. Präsentier
 t wird die ganze Bandbreite an Kaltglastechniken\, die einen völlig neuen
 \, innovativen Umgang mit einem der ältesten Dekorationsverfahren offenba
 rt. Ergebnis sind inspirierte\, qualitativ und konzeptionell anspruchsvoll
 e Gefäße\, Objekte\, Skulpturen und Installationen\, die den neuen Aufsc
 hwung innerhalb der Glasgravur dokumentieren. - Tickets: 09563 / 1606
DTEND;VALUE=DATE:20201109
DTSTART;VALUE=DATE:20200508
LAST-MODIFIED:20200616T105200Z
LOCATION:Europäisches Museum für Modernes Glas
SUMMARY:Gravur - Back on Tour
X-IMAGE:http://www.region-coburg.tv/images/medium/glasmuseum-vh-9491d8ea.jp
 g
END:VEVENT
END:VCALENDAR
