BEGIN:VCALENDAR
METHOD:PUBLISH
PRODID:-//4837@www.region-coburg.tv//NONSGML iCalcreator 2.4.3//
VERSION:2.0
BEGIN:VEVENT
UID:4837-20200403000000-20210110000000@www.region-coburg.tv
DTSTAMP:20260419T175151Z
CONTACT:09561 / 8790
CREATED:20200616T104900Z
DESCRIPTION:StudioausstellungDie Veste Coburg â€“ heute im Norden Bayerns â
 €“ ist Teil dieser Kulturlandschaft und gehĂ¶rt deshalb auch der â€žBurgen
 straĂźe ThĂĽringenâ€ś an. Seit dem 14. Jahrhundert in wettinischem Besitz\
 , sicherte sie fortan die sĂ¤chsisch-thĂĽringischen Territorien nach SĂĽde
 n hin ab. Bedeutung erlangte die Veste auch als kursĂ¤chsische Nebenreside
 nz und nicht zuletzt als Stammsitz des Hauses Sachsen-Coburg und Gotha. An
 lĂ¤sslich des JubilĂ¤ums â€ž100 Jahre Coburg in Bayernâ€ś nehmen die Kunst
 sammlungen der Veste Coburg 2020 speziell diese bleibenden BezĂĽge zu ThĂĽ
 ringen in den Blick.Die Studioausstellung zeigt Objekte\, die jeweils char
 akteristisch fĂĽr eine bestimmte Anlage sind. Zugleich wird das Burgenland
  ThĂĽringen in seiner hohen baulichen QualitĂ¤t und kulturgeschichtlichen 
 Vielfalt vorgestellt. - Tickets: 09561 / 8790
DTEND;VALUE=DATE:20210111
DTSTART;VALUE=DATE:20200403
LAST-MODIFIED:20200616T104900Z
LOCATION:Kunstsammlungen der Veste Coburg
SUMMARY:LĂ¤nderverbindend â€“ Coburg an der BurgenstraĂźe ThĂĽringen
X-IMAGE:http://www.region-coburg.tv/images/medium/burgenstrasse-vh-ed9da572
 .jpg
END:VEVENT
END:VCALENDAR
