BEGIN:VCALENDAR
METHOD:PUBLISH
PRODID:-//4836@www.region-coburg.tv//NONSGML iCalcreator 2.4.3//
VERSION:2.0
BEGIN:VEVENT
UID:4836-20200515000000-20201108000000@www.region-coburg.tv
DTSTAMP:20260419T175151Z
CONTACT:09561 / 8790
CREATED:20200616T104500Z
DESCRIPTION:Glas für Cappellin und VeniniDie Hauptausstellung auf der Vest
 e Coburg widmet sich dem Werk des Malers\, Graphikers und Designers Vittor
 io Zecchin (1878 – 1947)\, der in den 1920er Jahren in Venedig für Capp
 ellin und Venini Glasgefäße von bestechender Eleganz entworfen hat. Die 
 Kunstsammlungen zeigen in Kooperation mit Le Stanze del Vetro knapp 90 Gla
 sobjekte\, denen historische Vergleichsstücke aus dem Bestand der Kunstsa
 mmlungen gegenüber gestellt werden. - Tickets: 09561 / 8790
DTEND;VALUE=DATE:20201109
DTSTART;VALUE=DATE:20200515
LAST-MODIFIED:20200616T104500Z
LOCATION:Kunstsammlungen der Veste Coburg
SUMMARY:Vittorio Zecchin
X-IMAGE:http://www.region-coburg.tv/images/medium/glas-vh-d9fe448f.jpg
END:VEVENT
END:VCALENDAR
