BEGIN:VCALENDAR
METHOD:PUBLISH
PRODID:-//4835@www.region-coburg.tv//NONSGML iCalcreator 2.4.3//
VERSION:2.0
BEGIN:VEVENT
UID:4835-20200511000000-20200726000000@www.region-coburg.tv
DTSTAMP:20260419T175250Z
CONTACT:09561 / 80810
CREATED:20200616T103600Z
DESCRIPTION:Sonderausstellung | Impressionen in Öl und Acryl von Steffi Ro
 digasLassen Sie sich in der Sonderausstellung mit Bildern von Seen und Vul
 kanen aus den Doubtful Sounds\, vom Aoraki\, dem höchsten Berg der neusee
 ländischen Alpen\, von den berühmten Pancake Rocks\, dem farbenprächtig
 en Hooker Valley und so manchem putzigen Tier in das „einzigARTige Neuse
 eland“ entführen! - Tickets: 09561 / 80810
DTEND;VALUE=DATE:20200727
DTSTART;VALUE=DATE:20200511
LAST-MODIFIED:20200616T103600Z
LOCATION:Coburg\, Naturkundemuseum
SUMMARY:Einzigartiges Neuseeland
X-IMAGE:http://www.region-coburg.tv/images/medium/neuseeland-vh-255cbbe7.jp
 g
END:VEVENT
END:VCALENDAR
