BEGIN:VCALENDAR
METHOD:PUBLISH
PRODID:-//4787@www.region-coburg.tv//NONSGML iCalcreator 2.4.3//
VERSION:2.0
BEGIN:VEVENT
UID:4787-20191115000000-20200322000000@www.region-coburg.tv
DTSTAMP:20260419T175504Z
CONTACT:09561 / 8790
CREATED:20200113T172400Z
DESCRIPTION:Gipsabdrucksammlungen des 18. JahrhundertsDas kulturelle Leben 
 des 18. Jahrhunderts war geprägt von flammender Begeisterung für Kunst u
 nd Kultur der Antike. Neben antiken Autoren\, großen Bauten\, Statuen und
  Vasen gerieten vor allem auch die winzigen Gemmen in den Blick – Schmuc
 ksteine\, deren Bilderreichtum die Welt der Antike in besonderer Weise ers
 chließt. Da die antiken Objekte höchst begehrt\, aber für die wenigsten
  erschwinglich waren\, entstand ein florierender Markt für detailgetreue 
 Abbilder. Besonders beliebt waren maßstabsgetreue Abformungen in Gips\, d
 ie die Plastizität des Objektes greifbar machten.Die Studioausstellung pr
 äsentiert mit Gipsabdrucksammlungen antiker Gemmen ein überaus erfolgrei
 ches\, heute weitgehend vergessenes Reproduktionsmedium aus dem Zeitalter 
 der Antikenbegeisterung. Ebenfalls zu sehen sind die gemeinsam mit den Abd
 rucksammlungen publizierten Kommentare\, die heute in der  Landesbiblioth
 ek Coburg bewahrt werden. Die kunstvoll gearbeiteten Abdrücke und die rei
 ch illustrierten Kommentare zeigen eindrücklich\, welche Wertschätzung u
 nd auch Prestige humanistischer Bildung in jener Epoche zukam. - Tickets: 
 09561 / 8790
DTEND;VALUE=DATE:20200323
DTSTART;VALUE=DATE:20191115
LAST-MODIFIED:20200113T172400Z
LOCATION:Kunstsammlungen der Veste Coburg
SUMMARY:Herkules im Setzkasten
X-IMAGE:http://www.region-coburg.tv/images/medium/herkules-vh-420c0bee.jpg
END:VEVENT
END:VCALENDAR
