BEGIN:VCALENDAR
METHOD:PUBLISH
PRODID:-//4749@www.region-coburg.tv//NONSGML iCalcreator 2.4.3//
VERSION:2.0
BEGIN:VEVENT
UID:4749-20191201000000-20200301000000@www.region-coburg.tv
DTSTAMP:20260419T174853Z
CONTACT:09561 / 891480
CREATED:20191127T174100Z
DESCRIPTION:Legosteine – da werden Kindheitserinnerungen wach. In der Son
 derausstellung „Kleine Steine – große Passion. Kreative Welten aus LE
 GO®-Steinen“ zeigt der Verein „Bricking Bavaria“ fantasievolle wie 
 auch wirklichkeitsgetreue Modellbauten aus Tausenden bunten LEGO®-Steinen
 . Die Ausstellung ist vom 01. Dezember bis zum 09. Januar im Coburger Pupp
 enmuseum zu bestaunen.Beim LEGO-Mitmachtag am Sonntag\, den 05. Januar kö
 nnen Kinder dann auch mit den Profis bauen und kreative Anregungen mit nac
 h Hause nehmen. 'Gibt es Leben auf dem Mond oder auf einem fremden Planete
 n?' heißt das Thema\, bei dem eine eigene Stadt der Zukunft gebaut werden
  soll. - Tickets: 09561 / 891480
DTEND;VALUE=DATE:20200302
DTSTART;VALUE=DATE:20191201
LAST-MODIFIED:20191127T174100Z
LOCATION:Coburg\, Puppenmuseum
SUMMARY:Kleine Steine – große Passion
X-IMAGE:http://www.region-coburg.tv/images/medium/lego-vh-e6262542.jpg
END:VEVENT
END:VCALENDAR
