BEGIN:VCALENDAR
METHOD:PUBLISH
PRODID:-//4727@www.region-coburg.tv//NONSGML iCalcreator 2.4.3//
VERSION:2.0
BEGIN:VEVENT
UID:4727-20190913000000-20200419000000@www.region-coburg.tv
DTSTAMP:20260419T175541Z
CONTACT:09563 / 1606
CREATED:20191018T172200Z
DESCRIPTION:Sonderausstellung: Die Sammlung Ursula und Rainer LoschDer in V
 enedig tätige Künstler Fulvio Bianconi (1915–1996) hat über Jahrzehnt
 e für verschiedene Glashersteller Gefäße\, Objekte und Figuren entworfe
 n. In unterschiedlicher Stückzahl wurden sie in die ganze Welt geliefert.
  Herausragend war dabei die Zusammenarbeit mit Paolo Venini\, die zu mehre
 ren Hundert Entwürfen geführt hat. In einem Zeitraum von dreißig Jahren
  hat das Sammlerehepaar Losch die weltweit umfangreichste und bedeutendste
  Sammlung mit gut 300 Werken von Fulvio Bianconi zusammengetragen. Sie ist
  nun dauerhaft in Coburg untergebracht und zum ersten Mal in ihrer ganzen 
 Breite zu sehen.Europäisches Glasmuseum - Tickets: 09563 / 1606
DTEND;VALUE=DATE:20200420
DTSTART;VALUE=DATE:20190913
LAST-MODIFIED:20191018T172200Z
LOCATION:Rödental\, Europäisches Museum für Modernes Glas
SUMMARY:Fulvio Bianconi
X-IMAGE:http://www.region-coburg.tv/images/medium/glas-vh-988903b4.jpg
END:VEVENT
END:VCALENDAR
