BEGIN:VCALENDAR
METHOD:PUBLISH
PRODID:-//4699@www.region-coburg.tv//NONSGML iCalcreator 2.4.3//
VERSION:2.0
BEGIN:VEVENT
UID:4699-20200307193000-20200307000000@www.region-coburg.tv
DTSTAMP:20260423T070105Z
CREATED:20190907T174400Z
DESCRIPTION:Heimspiel 2. Basketball-Bundesliga PRO B SüdKompletter Spielpl
 an
DTEND:20200307T000000
DTSTART:20200307T193000
LAST-MODIFIED:20190907T174400Z
LOCATION:HUK-COBURG arena
SUMMARY:BBC Coburg - Bayern München
X-IMAGE:http://www.region-coburg.tv/images/medium/bbc-vh-7e7a19be.jpg
END:VEVENT
END:VCALENDAR
