BEGIN:VCALENDAR
METHOD:PUBLISH
PRODID:-//4698@www.region-coburg.tv//NONSGML iCalcreator 2.4.3//
VERSION:2.0
BEGIN:VEVENT
UID:4698-20200215190000-20200215000000@www.region-coburg.tv
DTSTAMP:20260423T065725Z
CREATED:20190907T174300Z
DESCRIPTION:Heimspiel 2. Basketball-Bundesliga PRO B SüdKompletter Spielpl
 an
DTEND:20200215T000000
DTSTART:20200215T190000
LAST-MODIFIED:20190907T174300Z
LOCATION:HUK-COBURG arena
SUMMARY:BBC Coburg - Young Pikes Baunach
X-IMAGE:http://www.region-coburg.tv/images/medium/bbc-vh-7e7a19be.jpg
END:VEVENT
END:VCALENDAR
