BEGIN:VCALENDAR
METHOD:PUBLISH
PRODID:-//4697@www.region-coburg.tv//NONSGML iCalcreator 2.4.3//
VERSION:2.0
BEGIN:VEVENT
UID:4697-20200202160000-20200202000000@www.region-coburg.tv
DTSTAMP:20260423T065618Z
CREATED:20190907T174300Z
DESCRIPTION:Heimspiel 2. Basketball-Bundesliga PRO B SüdKompletter Spielpl
 an
DTEND:20200202T000000
DTSTART:20200202T160000
LAST-MODIFIED:20190907T174300Z
LOCATION:HUK-COBURG arena
SUMMARY:BBC Coburg - TG s.Oliver Würzburg
X-IMAGE:http://www.region-coburg.tv/images/medium/bbc-vh-7e7a19be.jpg
END:VEVENT
END:VCALENDAR
