BEGIN:VCALENDAR
METHOD:PUBLISH
PRODID:-//4696@www.region-coburg.tv//NONSGML iCalcreator 2.4.3//
VERSION:2.0
BEGIN:VEVENT
UID:4696-20200119160000-20200119000000@www.region-coburg.tv
DTSTAMP:20260423T070223Z
CREATED:20190907T174200Z
DESCRIPTION:Heimspiel 2. Basketball-Bundesliga PRO B SüdKompletter Spielpl
 an
DTEND:20200119T000000
DTSTART:20200119T160000
LAST-MODIFIED:20190907T174200Z
LOCATION:HUK-COBURG arena
SUMMARY:BBC Coburg - OrangeAcademy Ulm
X-IMAGE:http://www.region-coburg.tv/images/medium/bbc-vh-7e7a19be.jpg
END:VEVENT
END:VCALENDAR
