BEGIN:VCALENDAR
METHOD:PUBLISH
PRODID:-//4676@www.region-coburg.tv//NONSGML iCalcreator 2.4.3//
VERSION:2.0
BEGIN:VEVENT
UID:4676-20190908000000-20200106000000@www.region-coburg.tv
DTSTAMP:20260419T175453Z
CONTACT:09561 / 891480
CREATED:20190901T120400Z
DESCRIPTION:SonderausstellungEr beeindruckte die Theaterwelt als auch zahlr
 eiche Fürsten. Max Brückner\, der von 1836 bis 1919 lebte\, schuf realis
 tische Darstellungen der Natur mit lebhaften Szenarien. Selbst Richard Wag
 ner war davon fasziniert. Prinz Albert ermöglichte dem Künstler\, sich i
 n London weiterzubilden\, seine Werke machten die Namen „Brückner“ un
 d „Coburg“ europaweit bekannt.Die Sonderausstellung zu Max Brückners 
 Bühnenbildmalerei „Theater – Bild – Prinz“ gibt Einblicke in die 
 Entstehung eines Bühnenbilds. Die Zeichnungen\, Ölgemälden und Aquarell
 en aus dem Bestand der Städtischen Sammlungen Coburg sind vom 08. Septemb
 er bis zum 06. Januar im Coburger Puppenmuseum zu sehen. - Tickets: 09561 
 / 891480
DTEND;VALUE=DATE:20200107
DTSTART;VALUE=DATE:20190908
LAST-MODIFIED:20190901T120400Z
LOCATION:Coburg\, Puppenmuseum
SUMMARY:Theater - Bild - Prinz
X-IMAGE:http://www.region-coburg.tv/images/medium/brueckner-vh-f70ed1d7.jpg
END:VEVENT
END:VCALENDAR
