BEGIN:VCALENDAR
METHOD:PUBLISH
PRODID:-//4635@www.region-coburg.tv//NONSGML iCalcreator 2.4.3//
VERSION:2.0
BEGIN:VEVENT
UID:4635-20200306200000-20200306000000@www.region-coburg.tv
DTSTAMP:20260423T065725Z
CONTACT:09561 / 7318500
CREATED:20190716T112800Z
DESCRIPTION:Heimspiel des HSC 2000 Coburg in der 2. Handball-BundesligaKomp
 letter Spielplan - Tickets: 09561 / 7318500
DTEND:20200306T000000
DTSTART:20200306T200000
LAST-MODIFIED:20190716T112800Z
LOCATION:HUK-COBURG arena
SUMMARY:HSC 2000 Coburg – TSV Bayer Dormagen
X-IMAGE:http://www.region-coburg.tv/images/medium/hsc-logo-d09cc377.jpg
END:VEVENT
END:VCALENDAR
