BEGIN:VCALENDAR
METHOD:PUBLISH
PRODID:-//4634@www.region-coburg.tv//NONSGML iCalcreator 2.4.3//
VERSION:2.0
BEGIN:VEVENT
UID:4634-20200222193000-20200222000000@www.region-coburg.tv
DTSTAMP:20260423T070000Z
CONTACT:09561 / 7318500
CREATED:20190716T112700Z
DESCRIPTION:Heimspiel des HSC 2000 Coburg in der 2. Handball-BundesligaKomp
 letter Spielplan - Tickets: 09561 / 7318500
DTEND:20200222T000000
DTSTART:20200222T193000
LAST-MODIFIED:20190716T112700Z
LOCATION:HUK-COBURG arena
SUMMARY:HSC 2000 Coburg – TV 05/07 Hüttenberg
X-IMAGE:http://www.region-coburg.tv/images/medium/hsc-logo-d09cc377.jpg
END:VEVENT
END:VCALENDAR
