BEGIN:VCALENDAR
METHOD:PUBLISH
PRODID:-//4246@www.region-coburg.tv//NONSGML iCalcreator 2.4.3//
VERSION:2.0
BEGIN:VEVENT
UID:4246-20180302190000-20180302000000@www.region-coburg.tv
DTSTAMP:20260422T022102Z
CONTACT: 09561 / 891420
CREATED:20180226T173200Z
DESCRIPTION:Ihre Protagonisten sind auf der Flucht – vor ausweglosen Situ
 ationen\, in Träume oder eine neue Zukunft. Der Rudolstädter Autor Gerha
 rd Goldmann und die Coburger Autorin Nicole Eick laden am Freitag\, den 02
 . März zu einer Lesung in die Coburger Stadtbücherei ein. „Kleine Fluc
 hten – um die Welt\, aus dem Alltag\, in die Fantasie“ – ein für de
 n Zuhörer unterhaltsamer wie auch nachdenklicher Abend. - Tickets:  09561
  / 891420
DTEND:20180302T000000
DTSTART:20180302T190000
LAST-MODIFIED:20180226T173200Z
LOCATION:Coburg\, Stadtbücherei
SUMMARY:Autorenlesung: 'Kleine Fluchten ...'
X-IMAGE:http://www.region-coburg.tv/images/medium/fluchten-vh-afa44d32.jpg
END:VEVENT
END:VCALENDAR
