BEGIN:VCALENDAR
METHOD:PUBLISH
PRODID:-//4242@www.region-coburg.tv//NONSGML iCalcreator 2.4.3//
VERSION:2.0
BEGIN:VEVENT
UID:4242-20180225193000-20180225000000@www.region-coburg.tv
DTSTAMP:20260422T022346Z
CONTACT:09561 / 792480
CREATED:20180221T175700Z
DESCRIPTION:Stummfilm mit LivemusikEiner der bedeutendsten Regisseure der S
 tummfilm-Ära\, Friedrich Wilhelm Murnau\, drehte 1925 seinen von der inte
 rnationalen Kritik hoch gelobten Stummfilm „Faust“. In einem außergew
 öhnlichen Event gestaltet KMD Peter Stenglein die Musik zum Stummfilm liv
 e an der Schuke-Orgel. Die Benefizveranstaltung findet am Sonntag\, den 25
 . Februar in der Coburger Morizkirche statt. - Tickets: 09561 / 792480
DTEND:20180225T000000
DTSTART:20180225T193000
LAST-MODIFIED:20180221T175700Z
LOCATION:Coburg\, Stadtkirche St. Moriz
SUMMARY:Friedrich Murnaus 'Faust'
X-IMAGE:http://www.region-coburg.tv/images/medium/faust-vh-392f2a17.jpg
END:VEVENT
END:VCALENDAR
