BEGIN:VCALENDAR
METHOD:PUBLISH
PRODID:-//4233@www.region-coburg.tv//NONSGML iCalcreator 2.4.3//
VERSION:2.0
BEGIN:VEVENT
UID:4233-20180320201500-20180320000000@www.region-coburg.tv
DTSTAMP:20260422T021703Z
CONTACT:09561 / 239051
CREATED:20180205T195000Z
DESCRIPTION:Christian Nielsen bereitet als Chefkurator eines Stockholmer Mu
 seums gerade eine aufsehenerregende Ausstellung vor: die interaktive Insta
 llation â€žThe Squareâ€œ ist ein vier mal vier Meter groÃŸer Platz\, eine 
 â€žSchutzzone fÃ¼r Vertrauen und FÃ¼rsorgeâ€œ\, in der jeder\, der dort um
  Hilfe bittet\, diese bedingungslos erhÃ¤lt. Doch die Promotion-Kampagne l
 Ã¤uft vÃ¶llig aus dem Ruder. Und als Christian Opfer von Trickdieben wird\
 , entwickelt er einen perfiden Plan\, um seine Wertsachen zurÃ¼ck zu bekom
 men und offenbart\, dass er doch nicht so frei von Vorurteilen ist\, wie e
 r gerne wÃ¤re. In seiner bissigen Satire nimmt Ruben Ã–stlund den Kunstbet
 rieb und die zynischen Medien anstÃ¤ndig auf die Schippe und wirft die nur
  scheinbar simple Frage auf\, an welchem Punkt die Unmenschlichkeit so gro
 ÃŸ wird\, dass man einfach nicht mehr wegsehen kann. Die schwedische KomÃ¶
 die wurde von der EuropÃ¤ische Filmakademie als bester europÃ¤ischer Film 
 ausgezeichnet und gewann in Cannes die Goldene Palme.VHS-Film der Woche |Â
  Schweden\, Deutschland\, DÃ¤nemark\, Frankreich 2017 - Tickets: 09561 / 2
 39051
DTEND:20180320T000000
DTSTART:20180320T201500
LAST-MODIFIED:20180205T195000Z
LOCATION:Coburg\, Kino Utopolis
SUMMARY:The Square
X-IMAGE:http://www.region-coburg.tv/images/medium/vhs-film-1276db0f.jpg
END:VEVENT
END:VCALENDAR
