BEGIN:VCALENDAR
METHOD:PUBLISH
PRODID:-//4232@www.region-coburg.tv//NONSGML iCalcreator 2.4.3//
VERSION:2.0
BEGIN:VEVENT
UID:4232-20180313201500-20180313000000@www.region-coburg.tv
DTSTAMP:20260422T021546Z
CONTACT:09561 / 239051
CREATED:20180205T182400Z
DESCRIPTION:Nachdem Katja bei einem Anschlag mit einer Nagelbombe ihren Man
 n und den gemeinsamen sechsjährigen Sohn Rocco verliert\, betäubt sie ih
 ren Schmerz mit Drogen und denkt daran\, sich umzubringen. Erst als die Po
 lizei das Neonazi-Paar Edda und André Möller als mögliche Täter verhaf
 tet\, schöpft Katja Hoffnung. Anhand einer fiktiven Geschichte\, die sich
  ausschließlich auf die Opferperspektive konzentriert\, verarbeitet Regis
 seur Fatih Akin die neun zwischen 2000 und 2006 von der rechtsextremen Ter
 rorzelle NSU verübten Morde sowie den Skandal um die schlampige Aufkläru
 ngsarbeit der Polizei. Dabei übt er scharfe Kritik und stellt die Frage n
 ach einer möglichen moralischen Rechtfertigung von Rache. Es entstand ein
  bewusst subjektiver\, wütender und wütend machender Film\, der Anfang J
 anuar mit einem Golden Globe als bester nicht englischsprachiger Film ausg
 ezeichnet wurde.VHS-Film der Woche | Deutschland\, Frankreich 2017 - Tick
 ets: 09561 / 239051
DTEND:20180313T000000
DTSTART:20180313T201500
LAST-MODIFIED:20180205T182400Z
LOCATION:Coburg\, Kino Utopolis
SUMMARY:Aus dem Nichts
X-IMAGE:http://www.region-coburg.tv/images/medium/vhs-film-1276db0f.jpg
END:VEVENT
END:VCALENDAR
