BEGIN:VCALENDAR
METHOD:PUBLISH
PRODID:-//4231@www.region-coburg.tv//NONSGML iCalcreator 2.4.3//
VERSION:2.0
BEGIN:VEVENT
UID:4231-20180306201500-20180306000000@www.region-coburg.tv
DTSTAMP:20260422T021459Z
CONTACT:09561 / 239051
CREATED:20180205T182100Z
DESCRIPTION:Zum internationalen Frauentag am 8. MärzLondon im Zweiten Welt
 krieg: Weil die meisten gesunden Männer an der Front kämpfen\, eröffnen
  sich den Daheimgebliebenen ungeahnte Karrieremöglichkeiten. So ergattert
  die Sekretärin Catrin Cole einen Job beim britischenInformationsminister
 ium. Sie soll das Drehbuch zu einem Propagandafilm überarbeiten und dem F
 ilm eine weibliche Note verpassen. Gemeinsam mit dem schneidigen Filmemach
 er Tom Buckley und einer bunt zusammengewürfelten Filmcrew arbeitet Catri
 n fieberhaft daran\, einen Film zu drehen\, der das Herz der Nation erwär
 mt und den Menschen wieder neuen Mut gibt. Durch den Job entdeckt sie die 
 eigene Unabhängigkeit und möchte mit ihrer Arbeit dafür sorgen\, dass F
 rauen auf der Leinwand nicht nur als dekoratives\, männliches Anhängsel 
 gesehen werden.VHS-Film der Woche | Großbritannien 2017 - Tickets: 09561 
 / 239051
DTEND:20180306T000000
DTSTART:20180306T201500
LAST-MODIFIED:20180205T182100Z
LOCATION:Coburg\, Kino Utopolis
SUMMARY:Ihre beste Stunde
X-IMAGE:http://www.region-coburg.tv/images/medium/vhs-film-1276db0f.jpg
END:VEVENT
END:VCALENDAR
