BEGIN:VCALENDAR
METHOD:PUBLISH
PRODID:-//4230@www.region-coburg.tv//NONSGML iCalcreator 2.4.3//
VERSION:2.0
BEGIN:VEVENT
UID:4230-20180227201500-20180227000000@www.region-coburg.tv
DTSTAMP:20260422T022352Z
CONTACT:09561 / 239051
CREATED:20180205T182000Z
DESCRIPTION:Weil ein Dinner mit dreizehn Gästen laut der Vorstellung der G
 astgeberin Unglück bringt\, wird die Pariser Hausangestellte Maria unverh
 offt zum vierzehnten Gast einer Party mit ausgewählten Gästen aus der fr
 anzösischen\, amerikanischen und englischen High Society eingeladen. Doch
  als sie dabei dem britischen Kunsthändler David den Kopf verdreht\, komm
 t es zu zahlreichen Verwicklungen während Maria immer mehr Spaß an ihrer
  neuen Rolle findet. Amanda Sthers zweite Regiearbeit ist eine Art „mode
 rnes „Cinderella“ und gleichzeitig eine Satire\, die mit spitzfindigen
  Beobachtungen und doppelbödigen Dialogen eine Gesellschaft entblößt\, 
 die sich nur nach außen liberal präsentiert.VHS-Film der Woche | Frankre
 ich 2017 - Tickets: 09561 / 239051
DTEND:20180227T000000
DTSTART:20180227T201500
LAST-MODIFIED:20180205T182000Z
LOCATION:Coburg\, Kino Utopolis
SUMMARY:Madame
X-IMAGE:http://www.region-coburg.tv/images/medium/vhs-film-1276db0f.jpg
END:VEVENT
END:VCALENDAR
