BEGIN:VCALENDAR
METHOD:PUBLISH
PRODID:-//4229@www.region-coburg.tv//NONSGML iCalcreator 2.4.3//
VERSION:2.0
BEGIN:VEVENT
UID:4229-20180221201500-20180221000000@www.region-coburg.tv
DTSTAMP:20260422T022102Z
CONTACT:09561 / 239051
CREATED:20180205T181400Z
DESCRIPTION:Die Darstellung des Gespenstes in diesem Film – mit übergewo
 rfenem Betttuch und ausgeschnittenen Augenlöchern – entspricht dem Klis
 chee und der Vorstellung eines Kindes. Der Film selbst entspricht aber gan
 z und gar nicht dem Klischee eines typischen Geister- oder gar Horrorstrei
 fens. Wie ein Märchen erzählt David Lovery die Geschichte aus Sicht des 
 Geistes\, des Mannes C\, der nach einem tödlichen Autounfall zu seiner tr
 auernden Frau M zurückkehrt und vergeblich versucht\, sie mit seiner Anwe
 senheit zu trösten und an ihrem Alltag teilzuhaben. Stattdessen muss er i
 n der Ecke stehen und zusehen\, wie seine Frau ihr Leben weiter lebt und i
 hm nach und nach entgleitet. Tragisch\, melancholisch und manchmal auch ab
 surd komisch erzählt „A Ghost Story“ davon\, was es bedeutet\, nach d
 em Tod zu einer Erinnerung zu werden und ein andauerndes Vermächtnis zu h
 interlassen.VHS-Film der Woche | USA 2017 - Tickets: 09561 / 239051
DTEND:20180221T000000
DTSTART:20180221T201500
LAST-MODIFIED:20180205T181400Z
LOCATION:Coburg\, Kino Utopolis
SUMMARY:A Ghost Story
X-IMAGE:http://www.region-coburg.tv/images/medium/vhs-film-1276db0f.jpg
END:VEVENT
END:VCALENDAR
