BEGIN:VCALENDAR
METHOD:PUBLISH
PRODID:-//4170@www.region-coburg.tv//NONSGML iCalcreator 2.4.3//
VERSION:2.0
BEGIN:VEVENT
UID:4170-20180124201500-20180124000000@www.region-coburg.tv
DTSTAMP:20260422T003041Z
CONTACT:09561 / 239051
CREATED:20171121T200900Z
DESCRIPTION:Liebe am Arbeitsplatz ist an und für sich nicht besonders unge
 wöhnlich. Wenn jedoch der Arbeitsplatz ein blutiges Schlachthaus in Budap
 est ist und die beiden Akteure sehr eigenwillige Charaktere sind\, entseht
  daraus ein berührenderund auch komischer Film. Endre\, der Finanzchef de
 s Schlachthofes\, führt aus Angst vor Zurückweisung ein einsames Leben. 
 Mit den Frauen hat er längst  abgeschlossen. Bis Maria\, eine äußerst 
 eigentümliche Frau\, ihre Stelle als Qualitätskontrolleurin antritt. Die
  beiden bauen ein besonderes Verhältnis zueinander auf. Dabei spielt ein 
 für die Rinderzüchtung vorgesehenes Präparat\, das die Tierlibido steig
 ert\, eine gewisse Rolle und ein gemeinsamer Traum\, in dem beide Hirsche 
 sind und sich in einem verschneiten Wald begegnen ...VHS-Film der Woche | 
 Ungarn 2017 - Tickets: 09561 / 239051
DTEND:20180124T000000
DTSTART:20180124T201500
LAST-MODIFIED:20171121T200900Z
LOCATION:Coburg\, Kino Utopolis
SUMMARY:Körper und Seele
X-IMAGE:http://www.region-coburg.tv/images/medium/vhs-film-1276db0f.jpg
END:VEVENT
END:VCALENDAR
