BEGIN:VCALENDAR
METHOD:PUBLISH
PRODID:-//3851@www.region-coburg.tv//NONSGML iCalcreator 2.4.3//
VERSION:2.0
BEGIN:VEVENT
UID:3851-20161108201500-20161108000000@www.region-coburg.tv
DTSTAMP:20260421T044057Z
CONTACT:09561 / 239051
CREATED:20161104T203500Z
DESCRIPTION:Einmal Wildnis und zurückVerbundenheit mit der Natur und selbs
 tbestimmtes Leben: Diese Ideale will Ben in der Wildnis Nordamerikas verwi
 rklichen\, wo er mit Ehefrau Leslie und sechs Kindern fernab der Konsumges
 ellschaft seinem alternativen Traum folgt. Durch viel Aufmerksamkeit\, ans
 pruchsvolle Lehrpläne und das raue Leben im Urwald scheint sich sein herm
 etisches Erziehungsmodell tatsächlich zu bewähren. Erst eine Tragödie f
 ührt zum Kontakt mit der bisher ausgeschlossenen Massengesellschaft und s
 tellt das idealistische Konzept auf die entscheidende Probe.VHS-Film der W
 oche | USA 2016 - Tickets: 09561 / 239051
DTEND:20161108T000000
DTSTART:20161108T201500
LAST-MODIFIED:20161104T203500Z
LOCATION:Coburg\, Kino Utopolis
SUMMARY:Captain Fantstic
X-IMAGE:http://www.region-coburg.tv/images/medium/vhs-film-1276db0f.jpg
END:VEVENT
END:VCALENDAR
