BEGIN:VCALENDAR
METHOD:PUBLISH
PRODID:-//3835@www.region-coburg.tv//NONSGML iCalcreator 2.4.3//
VERSION:2.0
BEGIN:VEVENT
UID:3835-20161025190000-20161025000000@www.region-coburg.tv
DTSTAMP:20260421T044000Z
CONTACT:09561 / 891420
CREATED:20161016T194300Z
DESCRIPTION:Heidi Fischer liest: „Der verlorene Mann'Tot oder nur vermiss
 t? In Heidi Fischers Roman „Der verlorene Mann“ reist die Protagonisti
 n Elisabeth notgedrungen nach Nepal\, um nach ihrem Mann\, von dem sie get
 rennt lebt\, zu suchen. Eine unbequeme Reise\, der Himalaya-Staat wurde 20
 15 durch ein Erdbeben in weiten Teilen zerstört. In einem buddhistischen 
 Kloster findet Elisabeth seine letzten schriftlichen Aufzeichnungen und be
 ginnt\, auch ihr eigenes Leben zu hinterfragen. Die in Coburg geborene Aut
 orin Heidi Fischer liest aus ihrem neuen Roman am Dienstag\, den 25. Oktob
 er in der Coburger Stadtbücherei. - Tickets: 09561 / 891420
DTEND:20161025T000000
DTSTART:20161025T190000
LAST-MODIFIED:20161016T194300Z
LOCATION:Stadtbücherei Coburg
SUMMARY:Der verlorene Mann
X-IMAGE:http://www.region-coburg.tv/images/medium/verloren-vh-6ec45354.jpg
END:VEVENT
END:VCALENDAR
