BEGIN:VCALENDAR
METHOD:PUBLISH
PRODID:-//3801@www.region-coburg.tv//NONSGML iCalcreator 2.4.3//
VERSION:2.0
BEGIN:VEVENT
UID:3801-20160928190000-20160928000000@www.region-coburg.tv
DTSTAMP:20260421T024937Z
CONTACT:09564 / 1550
CREATED:20160924T120400Z
DESCRIPTION:„Isarnon - Stadt über dem Fluss'Er ist überzeugter Franke\,
  Kabarettist\, Unternehmer und Buchautor. Nach zahlreichen Regionalkrimis 
 stellt Helmut Vorndran nun seinen ersten\, historischen Roman vor. Spannen
 d\, mystisch und humorvoll handelt „Isarnon - Stadt über dem Fluss“ v
 om Leben der Kelten auf dem Staffelberg. Der Buchautor liest höchstpersö
 nlich aus seinem Keltenroman im Bad Rodacher „Haus des Gastes“ am Mitt
 woch\, den 28. September. - Tickets: 09564 / 1550
DTEND:20160928T000000
DTSTART:20160928T190000
LAST-MODIFIED:20160924T120400Z
LOCATION:Bad Rodach\, Haus des Gastes
SUMMARY:Helmut Vorndran liest
X-IMAGE:http://www.region-coburg.tv/images/medium/isarnon-vh-af77b1db.jpg
END:VEVENT
END:VCALENDAR
