BEGIN:VCALENDAR
METHOD:PUBLISH
PRODID:-//3794@www.region-coburg.tv//NONSGML iCalcreator 2.4.3//
VERSION:2.0
BEGIN:VEVENT
UID:3794-20161105200000-20161105000000@www.region-coburg.tv
DTSTAMP:20260421T043754Z
CONTACT:NP Geschäftsstellen
CREATED:20160819T113200Z
DESCRIPTION:10. Kneipennacht der Neuen Presse - Tickets: NP Geschäftsstell
 en
DTEND:20161105T000000
DTSTART:20161105T200000
LAST-MODIFIED:20160819T113200Z
LOCATION:Coburg\, Innenstadt
SUMMARY:Neue Presse Kneipennacht
X-IMAGE:http://www.region-coburg.tv/images/medium/kneipennacht-vh-b28b0c42.
 jpg
END:VEVENT
END:VCALENDAR
