BEGIN:VCALENDAR
METHOD:PUBLISH
PRODID:-//3790@www.region-coburg.tv//NONSGML iCalcreator 2.4.3//
VERSION:2.0
BEGIN:VEVENT
UID:3790-20161012201500-20161012000000@www.region-coburg.tv
DTSTAMP:20260421T043919Z
CONTACT:09561 / 239051
CREATED:20160802T204000Z
DESCRIPTION:BiographieEin Mathematik-Genie gerät zwischen die Mühlsteine 
 von Kolonialismus und akademischem Wissenschaftsbetrieb: Professor G.H. Ha
 rdy erkennt um 1913 die Ausnahmebegabung des jungen Inders Srinivasa Raman
 ujan und holt ihn zu sich an die Universität von Cambridge. Dort erstaunt
  der Nachwuchswissenschaftler Ramanujan bald durch bahnbrechende Entdeckun
 gen. Aber die vom Kolonialismus geprägte britische Gesellschaft steht dem
  einsamen Inder weiterhin skeptisch gegenüber\, der hart um seine fachlic
 he und gesellschaftliche Anerkennung kämpfen muss.VHS-Film der Woche | Gr
 oßbritannien 2015 - Tickets: 09561 / 239051
DTEND:20161012T000000
DTSTART:20161012T201500
LAST-MODIFIED:20160802T204000Z
LOCATION:Coburg\, Kino Utopolis
SUMMARY:Die Poesie des Unendlichen
X-IMAGE:http://www.region-coburg.tv/images/medium/vhs-film-1276db0f.jpg
END:VEVENT
END:VCALENDAR
