BEGIN:VCALENDAR
METHOD:PUBLISH
PRODID:-//3788@www.region-coburg.tv//NONSGML iCalcreator 2.4.3//
VERSION:2.0
BEGIN:VEVENT
UID:3788-20160928201500-20160928000000@www.region-coburg.tv
DTSTAMP:20260421T043841Z
CONTACT:09561 / 239051
CREATED:20160802T203500Z
DESCRIPTION:Biographie/DokumentationEigenwillige Mäzenin\, engagierte Gale
 ristin\, Händlerin und Sammlerin\, sowie Freundin zahlreicher Kunstlegend
 en… Peggy Guggenheims Rolle in der internationalen Kunstwelt umfasst all
  diese Aspekte auf einmal und noch mehr: Die wohlhabende und leidenschaftl
 iche Amerikanerin\, deren Vater bei der Titanic-Katastrophe umkam\, lässt
  ihr gesamtes Leben um den Fixstern Kunst kreisen. In den Kunstzentren Par
 is\, London und New York knüpft die unkonventionelle Rebellin zahllose Ko
 ntakte zu zeitgenössischen Künstlern wie z.B. Marcel Duchamp oder Samuel
  Beckett\; gleichzeitig schafft sie eine wirklich einmalige Sammlung - die
  „Peggy Guggenheim Collection“.VHS-Film der Woche | USA 2015 - Tickets
 : 09561 / 239051
DTEND:20160928T000000
DTSTART:20160928T201500
LAST-MODIFIED:20160802T203500Z
LOCATION:Coburg\, Kino Utopolis
SUMMARY:Peggy Guggenheim – Ein Leben für die Kunst
X-IMAGE:http://www.region-coburg.tv/images/medium/vhs-film-1276db0f.jpg
END:VEVENT
END:VCALENDAR
