BEGIN:VCALENDAR
METHOD:PUBLISH
PRODID:-//3787@www.region-coburg.tv//NONSGML iCalcreator 2.4.3//
VERSION:2.0
BEGIN:VEVENT
UID:3787-20160921201500-20160921000000@www.region-coburg.tv
DTSTAMP:20260421T025122Z
CONTACT:09561 / 239051
CREATED:20160802T203300Z
DESCRIPTION:BiographieExil und Heimweh - unter dem Schatten dieses Begriffs
 paares „wandert“ der Österreicher Stefan Zweig über die Kontinente: 
 Wachsende Furcht vor der Diktatur vertreibt den erfolgreichen Dichter scho
 n 1934 aus seiner österreichischen Heimat und führt ihn über England un
 d die USA bis nach Argentinien und Brasilien. Diese Ortswechsel werden Ste
 fan Zweig zwar versüßt durch seinen internationalen literarischen Ruf un
 d zahlreiche Begegnungen mit interessanten Menschen\; doch den Verlust sei
 ner Heimat vermögen selbst Liebe und Ruhm nicht völlig aufzuwiegen …VH
 S-Film der Woche | Deutschland\, Frankreich\, Österreich 2015 - Tickets: 
 09561 / 239051
DTEND:20160921T000000
DTSTART:20160921T201500
LAST-MODIFIED:20160802T203300Z
LOCATION:Coburg\, Kino Utopolis
SUMMARY:Vor der Morgenröte
X-IMAGE:http://www.region-coburg.tv/images/medium/vhs-film-1276db0f.jpg
END:VEVENT
END:VCALENDAR
