BEGIN:VCALENDAR
METHOD:PUBLISH
PRODID:-//3786@www.region-coburg.tv//NONSGML iCalcreator 2.4.3//
VERSION:2.0
BEGIN:VEVENT
UID:3786-20160914201500-20160914000000@www.region-coburg.tv
DTSTAMP:20260421T025101Z
CONTACT:09561 / 239051
CREATED:20160802T203200Z
DESCRIPTION:Der Wert menschlicher Wünsche und ihre Erfüllung: mit diesem 
 Thema beschäftigt sich Regisseur Mohamed Hamidi in seiner Komödie um die
  merkwürdige Reise eines glücklichen Menschen. In Algerien lebt Bauer Fa
 tah zwar zufrieden im Kreis seiner Familie\, pflegt aber einen ehrgeizigen
  Traum - er möchte seine Kuh Jacqueline auf der großen Landwirtschaftsme
 sse von Paris ausstellen. Deshalb bricht er zu einer couragierten Wanderun
 g auf\, die ihn nicht allein über das Meer und durch Frankreich führt\, 
 sondern auch mit neuen Bekannten zusammenbringt\, die äußerst unterschie
 dlich auf den exzentrischen Landwirt reagieren …VHS-Film der Woche | Fra
 nkreich 2016 - Tickets: 09561 / 239051
DTEND:20160914T000000
DTSTART:20160914T201500
LAST-MODIFIED:20160802T203200Z
LOCATION:Coburg\, Kino Utopolis
SUMMARY:Unterwegs mit Jacqueline
X-IMAGE:http://www.region-coburg.tv/images/medium/vhs-film-1276db0f.jpg
END:VEVENT
END:VCALENDAR
